BEGIN:VCALENDAR
VERSION:2.0
PRODID:-//Wein hoch 10 - ECPv6.15.20//NONSGML v1.0//EN
CALSCALE:GREGORIAN
METHOD:PUBLISH
X-WR-CALNAME:Wein hoch 10
X-ORIGINAL-URL:https://weinhoch10.de
X-WR-CALDESC:Veranstaltungen für Wein hoch 10
REFRESH-INTERVAL;VALUE=DURATION:PT1H
X-Robots-Tag:noindex
X-PUBLISHED-TTL:PT1H
BEGIN:VTIMEZONE
TZID:Europe/Berlin
BEGIN:DAYLIGHT
TZOFFSETFROM:+0100
TZOFFSETTO:+0200
TZNAME:CEST
DTSTART:20250330T010000
END:DAYLIGHT
BEGIN:STANDARD
TZOFFSETFROM:+0200
TZOFFSETTO:+0100
TZNAME:CET
DTSTART:20251026T010000
END:STANDARD
BEGIN:DAYLIGHT
TZOFFSETFROM:+0100
TZOFFSETTO:+0200
TZNAME:CEST
DTSTART:20260329T010000
END:DAYLIGHT
BEGIN:STANDARD
TZOFFSETFROM:+0200
TZOFFSETTO:+0100
TZNAME:CET
DTSTART:20261025T010000
END:STANDARD
BEGIN:DAYLIGHT
TZOFFSETFROM:+0100
TZOFFSETTO:+0200
TZNAME:CEST
DTSTART:20270328T010000
END:DAYLIGHT
BEGIN:STANDARD
TZOFFSETFROM:+0200
TZOFFSETTO:+0100
TZNAME:CET
DTSTART:20271031T010000
END:STANDARD
END:VTIMEZONE
BEGIN:VEVENT
DTSTART;TZID=Europe/Berlin:20260423T170000
DTEND;TZID=Europe/Berlin:20260423T210000
DTSTAMP:20260420T041541
CREATED:20260319T172953Z
LAST-MODIFIED:20260319T172953Z
UID:733-1776963600-1776978000@weinhoch10.de
SUMMARY:WeinFeierAbend
DESCRIPTION:
URL:https://weinhoch10.de/event/weinfeierabend-4/
LOCATION:WEINhoch10\, Lange Strqße 10\, Wolgast\, 17438
CATEGORIES:öffentliche Veranstaltung
ORGANIZER;CN="WEINhoch10":MAILTO:weinhochzehn@web.de
END:VEVENT
BEGIN:VEVENT
DTSTART;TZID=Europe/Berlin:20260430T190000
DTEND;TZID=Europe/Berlin:20260501T020000
DTSTAMP:20260420T041541
CREATED:20260127T174640Z
LAST-MODIFIED:20260127T174640Z
UID:707-1777575600-1777600800@weinhoch10.de
SUMMARY:Tanz in den Mai
DESCRIPTION:
URL:https://weinhoch10.de/event/tanz-in-den-mai/
LOCATION:Wolgast\, Rathausplatz\, Rathausplatz\, Wolgast\, 17438\, Deutschland
CATEGORIES:öffentliche Veranstaltung
ATTACH;FMTTYPE=image/png:https://weinhoch10.de/wp-content/uploads/2024/04/wein_10_logo_red.png
END:VEVENT
BEGIN:VEVENT
DTSTART;TZID=Europe/Berlin:20260613T100000
DTEND;TZID=Europe/Berlin:20260613T233000
DTSTAMP:20260420T041541
CREATED:20260127T174747Z
LAST-MODIFIED:20260127T174747Z
UID:709-1781344800-1781393400@weinhoch10.de
SUMMARY:Erdbeerfest
DESCRIPTION:
URL:https://weinhoch10.de/event/erdbeerfest/
LOCATION:Wolgast\, Rathausplatz\, Rathausplatz\, Wolgast\, 17438\, Deutschland
CATEGORIES:öffentliche Veranstaltung
END:VEVENT
BEGIN:VEVENT
DTSTART;TZID=Europe/Berlin:20260808T090000
DTEND;TZID=Europe/Berlin:20260808T233000
DTSTAMP:20260420T041541
CREATED:20260127T174832Z
LAST-MODIFIED:20260127T174832Z
UID:711-1786179600-1786231800@weinhoch10.de
SUMMARY:Wolgaster Kulturnacht
DESCRIPTION:
URL:https://weinhoch10.de/event/wolgaster-kulturnacht/
LOCATION:Wolgast\, Rathausplatz\, Rathausplatz\, Wolgast\, 17438\, Deutschland
CATEGORIES:öffentliche Veranstaltung
END:VEVENT
BEGIN:VEVENT
DTSTART;TZID=Europe/Berlin:20261010T140000
DTEND;TZID=Europe/Berlin:20261010T220000
DTSTAMP:20260420T041541
CREATED:20260127T174933Z
LAST-MODIFIED:20260127T174933Z
UID:713-1791640800-1791669600@weinhoch10.de
SUMMARY:Wein hoch 10 - Weinfest
DESCRIPTION:
URL:https://weinhoch10.de/event/wein-hoch-10-weinfest/
LOCATION:Wolgast\, Rathausplatz\, Rathausplatz\, Wolgast\, 17438\, Deutschland
CATEGORIES:öffentliche Veranstaltung
ORGANIZER;CN="WEINhoch10":MAILTO:weinhochzehn@web.de
END:VEVENT
BEGIN:VEVENT
DTSTART;VALUE=DATE:20261211
DTEND;VALUE=DATE:20261214
DTSTAMP:20260420T041541
CREATED:20260127T175028Z
LAST-MODIFIED:20260127T175028Z
UID:715-1796947200-1797206399@weinhoch10.de
SUMMARY:Weihnachtsmarkt 2026
DESCRIPTION:
URL:https://weinhoch10.de/event/weihnachtsmarkt-2026/
LOCATION:Wolgast\, Rathausplatz\, Rathausplatz\, Wolgast\, 17438\, Deutschland
CATEGORIES:öffentliche Veranstaltung
END:VEVENT
END:VCALENDAR